{"text_format":"1","workbook":"xlsx","n_sheets":6,"sheets":["Instructions","Race","Boats","Course","RSinput","Sheet1"],"not_rendered":{"charts":0,"images":1,"macros":1,"external_links":1,"defined_names":5,"comments":0,"pivot_tables":0},"unopened":[],"bounds":{"document_bytes":16777216,"sheet_cells":100000,"rows_first":2000,"rows_last":500,"rows_between":2000,"halvings":0,"cell_chars":16384,"cell_head_chars":4096},"cells_cut":0,"cells_raw":0,"read":"whole","date_system":"1900"}

{"sheet":"Instructions","index":0,"n_rows":22,"n_cols":2,"rows_kept":22,"cut":false,"hidden":false,"merged":[[14,0,14,14],[0,0,0,14],[1,0,1,14],[2,0,2,14],[3,0,3,14],[4,0,4,14],[8,0,8,14],[9,0,9,14],[10,0,10,14],[11,0,11,14],[12,0,12,14],[13,0,13,14],[15,0,15,14],[16,0,16,14],[17,0,17,14],[18,0,18,14],[19,0,19,14]]}
["Instructions:  Spring/Fall Frostbite 2018 Race Worksheet "]
["ONLY Enter DATA In The SHADED Areas!!!!"]
["1. Select File - Save As, and Save with the \"File name\" as \"Sun<Date>\", eg \"Sun11Mar18\"."]
["2. Select the Committee Boat Name (use pulldown) and Enter the Race Date."]
["3. Enter the Course (ENTER THE START MARK).  Use the Pulldown List.  The Course Length is automatically calculated."]
[null,"The Start location is assumed to be \"Y\".  If the start location is moved then the distance must be manually calculated."]
[null,"If the course does not change for later starts, just leave the course selections blank for those starts.  "]
[null,"If later starts have a different course, enter the new course for each start that is different.  "]
["4. Enter each Yacht Name for the appropriate start.  Use the pulldown list.  The Sail Number and PHRF Rating is automatically   "]
["    completed.  If a Yacht Name is NOT in the pull down list, inquire about their race application and race fees. "]
["5. If the Start Time is different than the default, enter the New Start Time in 24-hour military format: (hr) (min) (sec)."]
["6. Save the File."]
["7. Enter the Finish Time for each boat in 24-hour military format: (hr) (min) (sec). "]
["     If a boat is DNS or DNF, leave the Finish Time as 23:00:00.  Enter the DNS or DNF in the Remarks column to the right of Corrected Time."]
["8. Save the File."]
["9. Select the Sort Fleet Button for each Class, located to the right of each Class's Remarks column."]
["10. Save the File."]
["11. Email the File to the Scorer at score@smsa.com"]
[]
["V 2018.Frosbite 01     - V1"]
[]
["  Notes/changes:"]

{"sheet":"Race","index":1,"n_rows":43,"n_cols":20,"rows_kept":43,"cut":false,"hidden":false,"merged":[[10,21,10,26],[11,21,11,26],[3,3,3,5],[2,3,2,7],[10,9,10,11],[11,9,11,11],[6,2,6,3],[7,2,7,3],[5,1,5,3],[7,4,7,5],[4,3,4,19],[10,14,10,18],[11,14,11,18],[11,4,11,6]]}
[]
["   Race Name :  --->",null,null,"Frostbite # __",null,null,3]
["  Committee Boat Name -->  "]
[null," Date  -->",null,"2018-03-31"]
[null," Conditions --> (optional)"]
[null,"NonSpin Class - Start =    ",null,null,13,5,0]
[null,null,"  Course   =      ",null,"Y","K","Y",null,null,"Y","Y","Y"," ",null,"<--  Default start location is 'Y', when starting from shore - \"X\" if on RC Boat"]
[null,null,"  Distance  =   ",null,{"$f":"IF(ISBLANK(F7), 0, VLOOKUP(E7,Course!$A$23:$T$41, LOOKUP(F7,Course!$A$2:$A$19,Course!$B$2:$B$19),FALSE))+IF(ISBLANK(G7), 0, VLOOKUP(F7,Course!$A$23:$T$41, LOOKUP(G7,Course!$A$2:$A$19,Course!$B$2:$B$19),FALSE))+IF(ISBLANK(J7), 0, VLOOKUP(G7,Course!$A$23:$T$41, LOOKUP(J7,Course!$A$2:$A$19,Course!$B$2:$B$19),FALSE))+IF(ISBLANK(K7), 0, VLOOKUP(J7,Course!$A$23:$T$41, LOOKUP(K7,Course!$A$2:$A$19,Course!$B$2:$B$19),FALSE))+IF(ISBLANK(L7), 0, VLOOKUP(K7,Course!$A$23:$T$41, LOOKUP(L7,Course!$A$2:$A$19,Course!$B$2:$B$19),FALSE))+IF(ISBLANK(M7), 0, VLOOKUP(L7,Course!$A$23:$T$41, LOOKUP(M7,Course!$A$2:$A$19,Course!$B$2:$B$19),FALSE))","v":2.58},null,null,null,null,null,null,null,null,null,"<--  Override Distance for Windward/Leward courses"]
[]
[]
[null,null,null,null,null,null,null,null,null,"Uncorrected",null,null,null,"PHRF","Corrected - TOD"]
[null,"Sail","Yacht","PHRF","Finish Time",null,null,null,null,"Elapsed Time",null,null,null,"Allowance","Time",null,null,null,null,"Remarks"]
[null,"Number","Name","Rating","(hr)","(min)","(sec)",null,null,"(hr)","(min)","(sec)",null,"(Sec)","(Total Sec)",null,"(hr)","(min)","(sec)","(DNS/DNF)"]
[1,{"$f":"LOOKUP(C14, Boats!$A$3:B$42,Boats!B$3:B$42)&NSFLAG","v":{"$error":"#N/A"}},null,{"$f":"LOOKUP(C14, Boats!$A$3:C$42,Boats!E$3:E$42)","v":{"$error":"#N/A"}},14,39,3,{"$f":"((E14*60*60+F14*60+G14)-(E$6*60*60+F$6*60+G$6))","v":5643},{"$f":"J14*60*60+K14*60","v":5640},{"$f":"ROUNDDOWN(H14/60/60, 0)","v":1},{"$f":"ROUNDDOWN((H14 - (J14*60*60))/60, 0)","v":34},{"$f":"H14-I14","v":3},null,{"$f":"D14*$E$8","v":{"$error":"#N/A"}},{"$f":"((J14*60+K14)*60+L14)-N14","v":{"$error":"#N/A"}},{"$f":"Q14*60*60+R14*60","v":{"$error":"#N/A"}},{"$f":"ROUNDDOWN(O14/60/60, 0)","v":{"$error":"#N/A"}},{"$f":"ROUNDDOWN((O14 - (Q14*60*60))/60, 0)","v":{"$error":"#N/A"}},{"$f":"O14-P14","v":{"$error":"#N/A"}}]
[2,{"$f":"LOOKUP(C15, Boats!$A$3:B$42,Boats!B$3:B$42)&NSFLAG","v":{"$error":"#N/A"}},null,{"$f":"LOOKUP(C15, Boats!$A$3:C$42,Boats!E$3:E$42)","v":{"$error":"#N/A"}},14,52,20,6440,6420,1,47,20,null,{"$error":"#N/A"},{"$error":"#N/A"},{"$error":"#N/A"},{"$error":"#N/A"},{"$error":"#N/A"},{"$error":"#N/A"}]
[3,{"$f":"LOOKUP(C16, Boats!$A$3:B$42,Boats!B$3:B$42)&NSFLAG","v":{"$error":"#N/A"}},null,{"$f":"LOOKUP(C16, Boats!$A$3:C$42,Boats!E$3:E$42)","v":{"$error":"#N/A"}},14,45,53,6053,6000,1,40,53,null,{"$error":"#N/A"},{"$error":"#N/A"},{"$error":"#N/A"},{"$error":"#N/A"},{"$error":"#N/A"},{"$error":"#N/A"}]
[4,{"$f":"LOOKUP(C17, Boats!$A$3:B$42,Boats!B$3:B$42)&NSFLAG","v":{"$error":"#N/A"}},null,{"$f":"LOOKUP(C17, Boats!$A$3:C$42,Boats!E$3:E$42)","v":{"$error":"#N/A"}},14,39,49,5689,5640,1,34,49,null,{"$error":"#N/A"},{"$error":"#N/A"},{"$error":"#N/A"},{"$error":"#N/A"},{"$error":"#N/A"},{"$error":"#N/A"}]
[5,{"$f":"LOOKUP(C18, Boats!$A$3:B$42,Boats!B$3:B$42)&NSFLAG","v":{"$error":"#N/A"}},null,{"$f":"LOOKUP(C18, Boats!$A$3:C$42,Boats!E$3:E$42)","v":{"$error":"#N/A"}},14,53,3,6483,6480,1,48,3,null,{"$error":"#N/A"},{"$error":"#N/A"},{"$error":"#N/A"},{"$error":"#N/A"},{"$error":"#N/A"},{"$error":"#N/A"}]
[6,{"$f":"LOOKUP(C19, Boats!$A$3:B$42,Boats!B$3:B$42)&NSFLAG","v":{"$error":"#N/A"}},null,{"$f":"LOOKUP(C19, Boats!$A$3:C$42,Boats!E$3:E$42)","v":{"$error":"#N/A"}},15,6,21,7281,7260,2,1,21,null,{"$error":"#N/A"},{"$error":"#N/A"},{"$error":"#N/A"},{"$error":"#N/A"},{"$error":"#N/A"},{"$error":"#N/A"}]
[7,{"$f":"LOOKUP(C20, Boats!$A$3:B$42,Boats!B$3:B$42)&NSFLAG","v":{"$error":"#N/A"}},null,{"$f":"LOOKUP(C20, Boats!$A$3:C$42,Boats!E$3:E$42)","v":{"$error":"#N/A"}},15,7,19,7339,7320,2,2,19,null,{"$error":"#N/A"},{"$error":"#N/A"},{"$error":"#N/A"},{"$error":"#N/A"},{"$error":"#N/A"},{"$error":"#N/A"}]
[8,{"$f":"LOOKUP(C21, Boats!$A$3:B$42,Boats!B$3:B$42)&NSFLAG","v":{"$error":"#N/A"}},null,{"$f":"LOOKUP(C21, Boats!$A$3:C$42,Boats!E$3:E$42)","v":{"$error":"#N/A"}},15,6,12,7272,7260,2,1,12,null,{"$error":"#N/A"},{"$error":"#N/A"},{"$error":"#N/A"},{"$error":"#N/A"},{"$error":"#N/A"},{"$error":"#N/A"}]
[9,{"$f":"LOOKUP(C22, Boats!$A$3:B$42,Boats!B$3:B$42)&NSFLAG","v":{"$error":"#N/A"}},null,{"$f":"LOOKUP(C22, Boats!$A$3:C$42,Boats!E$3:E$42)","v":{"$error":"#N/A"}},23,0,0,35700,35700,9,55,0,null,{"$error":"#N/A"},{"$error":"#N/A"},{"$error":"#N/A"},{"$error":"#N/A"},{"$error":"#N/A"},{"$error":"#N/A"},"DNF"]
[10,{"$f":"LOOKUP(C23, Boats!$A$3:B$42,Boats!B$3:B$42)&NSFLAG","v":{"$error":"#N/A"}},null,{"$f":"LOOKUP(C23, Boats!$A$3:C$42,Boats!E$3:E$42)","v":{"$error":"#N/A"}},23,0,0,35700,35700,9,55,0,null,{"$error":"#N/A"},{"$error":"#N/A"},{"$error":"#N/A"},{"$error":"#N/A"},{"$error":"#N/A"},{"$error":"#N/A"}]
[11,{"$f":"LOOKUP(C24, Boats!$A$3:B$42,Boats!B$3:B$42)&NSFLAG","v":{"$error":"#N/A"}},null,{"$f":"LOOKUP(C24, Boats!$A$3:C$42,Boats!E$3:E$42)","v":{"$error":"#N/A"}},23,0,0,35700,35700,9,55,0,null,{"$error":"#N/A"},{"$error":"#N/A"},{"$error":"#N/A"},{"$error":"#N/A"},{"$error":"#N/A"},{"$error":"#N/A"}]
[12,{"$f":"LOOKUP(C25, Boats!$A$3:B$42,Boats!B$3:B$42)&NSFLAG","v":{"$error":"#N/A"}},null,{"$f":"LOOKUP(C25, Boats!$A$3:C$42,Boats!E$3:E$42)","v":{"$error":"#N/A"}},23,0,0,35700,35700,9,55,0,null,{"$error":"#N/A"},{"$error":"#N/A"},{"$error":"#N/A"},{"$error":"#N/A"},{"$error":"#N/A"},{"$error":"#N/A"}]
[13,{"$f":"LOOKUP(C26, Boats!$A$3:B$42,Boats!B$3:B$42)&NSFLAG","v":{"$error":"#N/A"}},null,{"$f":"LOOKUP(C26, Boats!$A$3:C$42,Boats!E$3:E$42)","v":{"$error":"#N/A"}},23,0,0,35700,35700,9,55,0,null,{"$error":"#N/A"},{"$error":"#N/A"},{"$error":"#N/A"},{"$error":"#N/A"},{"$error":"#N/A"},{"$error":"#N/A"}]
[14,{"$f":"LOOKUP(C27, Boats!$A$3:B$42,Boats!B$3:B$42)&NSFLAG","v":{"$error":"#N/A"}},null,{"$f":"LOOKUP(C27, Boats!$A$3:C$42,Boats!E$3:E$42)","v":{"$error":"#N/A"}},23,0,0,35700,35700,9,55,0,null,{"$error":"#N/A"},{"$error":"#N/A"},{"$error":"#N/A"},{"$error":"#N/A"},{"$error":"#N/A"},{"$error":"#N/A"}]
[15,{"$f":"LOOKUP(C28, Boats!$A$3:B$42,Boats!B$3:B$42)&NSFLAG","v":{"$error":"#N/A"}},null,{"$f":"LOOKUP(C28, Boats!$A$3:C$42,Boats!E$3:E$42)","v":{"$error":"#N/A"}},23,0,0,35700,35700,9,55,0,null,{"$error":"#N/A"},{"$error":"#N/A"},{"$error":"#N/A"},{"$error":"#N/A"},{"$error":"#N/A"},{"$error":"#N/A"}]
[16,{"$f":"LOOKUP(C29, Boats!$A$3:B$42,Boats!B$3:B$42)&NSFLAG","v":{"$error":"#N/A"}},null,{"$f":"LOOKUP(C29, Boats!$A$3:C$42,Boats!E$3:E$42)","v":{"$error":"#N/A"}},23,0,0,35700,35700,9,55,0,null,{"$error":"#N/A"},{"$error":"#N/A"},{"$error":"#N/A"},{"$error":"#N/A"},{"$error":"#N/A"},{"$error":"#N/A"}]
[17,{"$f":"LOOKUP(C30, Boats!$A$3:B$42,Boats!B$3:B$42)&NSFLAG","v":{"$error":"#N/A"}},null,{"$f":"LOOKUP(C30, Boats!$A$3:C$42,Boats!E$3:E$42)","v":{"$error":"#N/A"}},23,0,0,35700,35700,9,55,0,null,{"$error":"#N/A"},{"$error":"#N/A"},{"$error":"#N/A"},{"$error":"#N/A"},{"$error":"#N/A"},{"$error":"#N/A"}]
[18,{"$f":"LOOKUP(C31, Boats!$A$3:B$42,Boats!B$3:B$42)&NSFLAG","v":{"$error":"#N/A"}},null,{"$f":"LOOKUP(C31, Boats!$A$3:C$42,Boats!E$3:E$42)","v":{"$error":"#N/A"}},23,0,0,35700,35700,9,55,0,null,{"$error":"#N/A"},{"$error":"#N/A"},{"$error":"#N/A"},{"$error":"#N/A"},{"$error":"#N/A"},{"$error":"#N/A"}]
[19,{"$f":"LOOKUP(C32, Boats!$A$3:B$42,Boats!B$3:B$42)&NSFLAG","v":{"$error":"#N/A"}},null,{"$f":"LOOKUP(C32, Boats!$A$3:C$42,Boats!E$3:E$42)","v":{"$error":"#N/A"}},23,0,0,35700,35700,9,55,0,null,{"$error":"#N/A"},{"$error":"#N/A"},{"$error":"#N/A"},{"$error":"#N/A"},{"$error":"#N/A"},{"$error":"#N/A"}]
[20,{"$f":"LOOKUP(C33, Boats!$A$3:B$42,Boats!B$3:B$42)&NSFLAG","v":{"$error":"#N/A"}},null,{"$f":"LOOKUP(C33, Boats!$A$3:C$42,Boats!E$3:E$42)","v":{"$error":"#N/A"}},23,0,0,35700,35700,9,55,0,null,{"$error":"#N/A"},{"$error":"#N/A"},{"$error":"#N/A"},{"$error":"#N/A"},{"$error":"#N/A"},{"$error":"#N/A"}]
[21,{"$f":"LOOKUP(C34, Boats!$A$3:B$42,Boats!B$3:B$42)&NSFLAG","v":{"$error":"#N/A"}},null,{"$f":"LOOKUP(C34, Boats!$A$3:C$42,Boats!E$3:E$42)","v":{"$error":"#N/A"}},23,0,0,35700,35700,9,55,0,null,{"$error":"#N/A"},{"$error":"#N/A"},{"$error":"#N/A"},{"$error":"#N/A"},{"$error":"#N/A"},{"$error":"#N/A"}]
[22,{"$f":"LOOKUP(C35, Boats!$A$3:B$42,Boats!B$3:B$42)&NSFLAG","v":{"$error":"#N/A"}},null,{"$f":"LOOKUP(C35, Boats!$A$3:C$42,Boats!E$3:E$42)","v":{"$error":"#N/A"}},23,0,0,35700,35700,9,55,0,null,{"$error":"#N/A"},{"$error":"#N/A"},{"$error":"#N/A"},{"$error":"#N/A"},{"$error":"#N/A"},{"$error":"#N/A"}]
[23,{"$f":"LOOKUP(C36, Boats!$A$3:B$42,Boats!B$3:B$42)&NSFLAG","v":{"$error":"#N/A"}},null,{"$f":"LOOKUP(C36, Boats!$A$3:C$42,Boats!E$3:E$42)","v":{"$error":"#N/A"}},23,0,0,35700,35700,9,55,0,null,{"$error":"#N/A"},{"$error":"#N/A"},{"$error":"#N/A"},{"$error":"#N/A"},{"$error":"#N/A"},{"$error":"#N/A"}]
[24,{"$f":"LOOKUP(C37, Boats!$A$3:B$42,Boats!B$3:B$42)&NSFLAG","v":{"$error":"#N/A"}},null,{"$f":"LOOKUP(C37, Boats!$A$3:C$42,Boats!E$3:E$42)","v":{"$error":"#N/A"}},23,0,0,35700,35700,9,55,0,null,{"$error":"#N/A"},{"$error":"#N/A"},{"$error":"#N/A"},{"$error":"#N/A"},{"$error":"#N/A"},{"$error":"#N/A"}]
[25,{"$f":"LOOKUP(C38, Boats!$A$3:B$42,Boats!B$3:B$42)&NSFLAG","v":{"$error":"#N/A"}},null,{"$f":"LOOKUP(C38, Boats!$A$3:C$42,Boats!E$3:E$42)","v":{"$error":"#N/A"}},23,0,0,35700,35700,9,55,0,null,{"$error":"#N/A"},{"$error":"#N/A"},{"$error":"#N/A"},{"$error":"#N/A"},{"$error":"#N/A"},{"$error":"#N/A"}]
[26,{"$f":"LOOKUP(C39, Boats!$A$3:B$42,Boats!B$3:B$42)&NSFLAG","v":{"$error":"#N/A"}},null,{"$f":"LOOKUP(C39, Boats!$A$3:C$42,Boats!E$3:E$42)","v":{"$error":"#N/A"}},23,0,0,35700,35700,9,55,0,null,{"$error":"#N/A"},{"$error":"#N/A"},{"$error":"#N/A"},{"$error":"#N/A"},{"$error":"#N/A"},{"$error":"#N/A"}]
[27,{"$f":"LOOKUP(C40, Boats!$A$3:B$42,Boats!B$3:B$42)&NSFLAG","v":{"$error":"#N/A"}},null,{"$f":"LOOKUP(C40, Boats!$A$3:C$42,Boats!E$3:E$42)","v":{"$error":"#N/A"}},23,0,0,35700,35700,9,55,0,null,{"$error":"#N/A"},{"$error":"#N/A"},{"$error":"#N/A"},{"$error":"#N/A"},{"$error":"#N/A"},{"$error":"#N/A"}]
[28,{"$f":"LOOKUP(C41, Boats!$A$3:B$42,Boats!B$3:B$42)&NSFLAG","v":{"$error":"#N/A"}},null,{"$f":"LOOKUP(C41, Boats!$A$3:C$42,Boats!E$3:E$42)","v":{"$error":"#N/A"}},23,0,0,35700,35700,9,55,0,null,{"$error":"#N/A"},{"$error":"#N/A"},{"$error":"#N/A"},{"$error":"#N/A"},{"$error":"#N/A"},{"$error":"#N/A"}]
[29,{"$f":"LOOKUP(C42, Boats!$A$3:B$42,Boats!B$3:B$42)&NSFLAG","v":{"$error":"#N/A"}},null,{"$f":"LOOKUP(C42, Boats!$A$3:C$42,Boats!E$3:E$42)","v":{"$error":"#N/A"}},23,0,0,35700,35700,9,55,0,null,{"$error":"#N/A"},{"$error":"#N/A"},{"$error":"#N/A"},{"$error":"#N/A"},{"$error":"#N/A"},{"$error":"#N/A"}]
[30,{"$f":"LOOKUP(C43, Boats!$A$3:B$42,Boats!B$3:B$42)&NSFLAG","v":{"$error":"#N/A"}},null,{"$f":"LOOKUP(C43, Boats!$A$3:C$42,Boats!E$3:E$42)","v":{"$error":"#N/A"}},23,0,0,35700,35700,9,55,0,null,{"$error":"#N/A"},{"$error":"#N/A"},{"$error":"#N/A"},{"$error":"#N/A"},{"$error":"#N/A"},{"$error":"#N/A"}]

{"sheet":"Boats","index":2,"n_rows":98,"n_cols":19,"rows_kept":98,"cut":false,"hidden":false,"merged":[[0,3,0,4]]}
[null,"N",null,"PHRF"]
["Boat","SailNo","Owner","Spin","NonSpin","Race Fee","Spinclass","I","J","P","E","LOA","LWL","Disp","UpSAD","DWSAD","DLWL"]
[]
["American Flyer",39519,"Dan Schneider",36,42,"yes","A",51.25,14.04,50.45,18.47,39.4,34.119999999999997,13000,29.96,63.34,146.10607247052599,null,"American Flyer"]
["Arctic Tern",93642,"NAS",168,168,null,"C"]
["Bad Cat","063","Jim Whited",39,48,"yes","A",48.36,13.84,45.17,45.17,36.5,32.700000000000003,9300,26.65,73.27,119]
["Badger",144,"Carl Feusaherns",177,177,"yes","C",28.75,9.66,28,9.75,24.5,20.5,2900,24.11,46.03,150.27557431179]
["Bandit",93575,"Dan Rossi",69,75,null,"A"]
["Blue Boat Home",4856,"Lowell Martin",231,237,null,"C"]
["Blue Goose",93643,"NAS",168,168,null,"B"]
["Cheetah",50473,"Marc Briere",42,51,"yes","A",43.7,12.6,44.7,16.5,35.86,31.76,8150,28.76,70.08,114]
["Cheetah 1.0",36051,"Chris Helmkamp",111,111,null,"B"]
["Easy Button",93084,"David Meiser",159,159,"yes","C",27.75,8.25,29.75,11.72,25.7,20,2600,27.79,46.9,145.08928571428601]
["Elan",43162,"Gary Shaw",153,156,"yes","C",49.5,15.33,42,11,36.83,29.5,13500,18.71,39.33,234.75762231915499]
["Flyer",25126,"Michael Major",114,114,null,"B"]
["Gift Horse",87012,"Jimmy Yurko",111,111,null,"B"]
["Jray","USA47","Larry Ray",114,120,null,"B"]
["Kraken",43289,"S. Roland",180,180,null,"C"]
["Krugerrand",53477,"Sarah Southworth",132,132,"yes","B",48.42,14.33,42.33,13,36.17,29.42,15300,17.77,35.47,{"$f":"((N19/(2240*POWER((M19/100),3))))","v":268.2349766677014}]
["Lakahi",25260,"Jim Young",72,72,"yes","A",48,14.25,47,14.58,35.42,30,9800,26.64,50.21,162.03703703703701]
["Lickety Split",43067,"Donna Maneely",168,168,"yes","C",40.86,13,35.36,11.79,31.71,25,9400,18.73,33.700000000000003,268.57142857142901]
["Natural Disaster",63243,"Thomas Moulds",114,114,"yes","B",36,11.75,31.5,10.75,30,27.5,3600,28.56,57.33,{"$f":"((N22/(2240*POWER((M22/100),3))))","v":77.278093807019403}]
["Pursuit",23798,"Norm Dawley",45,66,"yes","A",52,16,55,18,47.67,37.17,18689,23.26,45.15,162.46520482011201]
["Rakali","USA158","Mark Witte",120,129,"yes","B",31.5,9.5,30,12.5,26.25,22,2900,29.88,72.56,121.585542556617]
["Rhumb Punch","USA 41","John Edwards",54,63,"yes","A",38.26,10.89,40.5,14.57,30.94,27.56,4558,33.200000000000003,78.209999999999994,97.205013026621899]
["Shamal",23827,"Andy Batchelor",174,174,"yes","C",30.75,9.83,26.5,9.5,24.58,19.170000000000002,2950,23.78,46.61,187]
["Shermax",2276,"Max Munger",177,177,"yes","C",43,13.16,37.5,12,29.91,25,10200,19.02,37.85,291.42857142857099]
["Short Bus",71221,"Hawk Caldwell",42,54,null,"A"]
["Sophie J","USA788","Clarke Mckinney",120,129,"yes","B",31.5,9.5,30,12.5,26.25,22,2900,29.88,72.56,121.585542556617]
["Spinnster",161,"Betsy Dodge",171,171,"yes","C",30.5,9.5,29.5,12.25,25.92,21.67,4250,22.36,39.880000000000003,186.45076850448501]
["Splash","USA 173","Tom Attick",111,111,"yes","B",40,12,35,12,29.5,25,5500,25.56,49.85,157.142857142857]
["Stingray",63383,"Elliot Peterson",129,129,"yes","B",38,10.95,32.4,12,27.9,23.8,5100,24.12,45.56,168.88508104322199]
["Stormy Petrel",93644,"NAS",168,168]
["Supra",26007,"Peter D'Arista",81,90,"Yes","A"]
["Tennounce",99,"John Mckinney",174,174,"no","C",41.5,13.87,35,13.75,33.17,26.25,10500,19.46,19.46,259.15127955944303]
["The Doghouse",63199,"Dan Shannon",111,111,"yes","B",40,12,35,12,29.5,25,6000,24.12,47.08,{"$f":"((N36/(2240*POWER((M36/100),3))))","v":171.42857142857142}]
["Valiant",60177,"NAS",93,93,"yes *","A",58.71,18.45,50.75,16,44,35.799999999999997,31641,16.63,33.83,{"$f":"((N37/(2240*POWER((M37/100),3))))","v":307.8598847550997}]
["Whirlaway",73211,null,108,114]
["Wicked Good",93121,"Mark Gyorgy",132,132,"yes","B",35.25,10.199999999999999,37.200000000000003,12,26.83,23.42,3800,29.81,51.7,132.06109868494099]
["Wild Thing",87638,"Jimmy Yurkop",186,186]
[]
[]
[]
[]
[]
[]
[]
[]
["OLD LIST - Boats removed from the Active list"]
[]
["Boat","SailNo","Owner","Spin","NonSpin","Race Fee","Spinclass","I","J","P","E","LOA","LWL","Disp","UpSAD","DWSAD","DLWL"]
["Age of Reason",14,"Stovy Brown",162,162,"yes","C",47,15,40.75,12.25,35.5,27.5,15000,17.329999999999998,33.47,321.99205752924701]
["Akoni",93227,"John Kriz",180,180,"yes","C",31.56,9.32,32.57,11,25.25,21.83,4200,22.55,40.36,180.235387641193]
["IRETSU",2511,"Terry Wanner",96,96]
["Marlin",31196,"Mardy Millen",141,141,"yes","B",36.68,11.3,32,11.99,27.17,22.83,6531,20.27,41,245]
["Toby",142,"Chris Eggert",141,141,"yes","B",47.5,15,41.75,11.5,36,29,12800,19.03,37.770000000000003,234.297663466551]
["Status Quo",63076,"Jimmy Yurko",108,108,"yes","A",36,11.75,31.5,10.75,30,27.5,3750,27.8,55.79,80.498014382311894]
["DFL",8675309,"Eddie Sierra",219,219]
[]
[]
[]
[]
[]
[]
[]
[]
["Age of Reason",14,"Stovy Brown",162,162,"yes","C",47,15,40.75,12.25,35.5,27.5,15000,17.329999999999998,33.47,{"$f":"((N67/(2240*POWER((M67/100),3))))","v":321.99205752924752}]
["Akoni",93227,"John Kriz",180,null,"yes","C",31.56,9.32,32.57,11,25.25,21.83,4200,22.55,40.36,180.2353876411932]
["American Flyer",39519,"Dan Schneider",48,54,"yes","A",51.25,14.04,50.45,18.47,39.4,34.119999999999997,13000,29.96,63.34,146.10607247052613]
["Badger",73304,"Carl Feusaherns",174,174,"yes","C",28.75,9.66,28,9.75,24.5,20.5,2900,24.11,46.03,150.27557431178971]
["Bandit",93575,"Daniel Rossi",78,84,"yes","A",41.33,12.5,41.33,14.25,33,30,6400,28.77,80.33,105.82010582010582]
["Cheetah",36051,"Mark Briere",105,111,"yes *","A",41.94,12.79,46.5,16,35.729999999999997,29.5,10500,24.19,51.76,182.58926180378717]
["Crocodile",93063,"Scott Ward",48,48,"yes","A",51.61,14.47,48.45,17.72,39.299999999999997,34.83,15211,23.46,42.47,160.71237703615463]
["Easy Button",93084,"David Meiser",159,null,"yes","C",27.75,8.25,29.75,11.72,25.7,20,2600,27.79,46.9,145.08928571428567]
["Elan",43162,"Gary Shaw",153,153,"yes","C",49.5,15.33,42,11,36.83,29.5,13500,18.71,39.33,234.7576223191549]
["Fine",43019,"Johnathan Phillips",174,180,"yes","C",26.75,9,30.25,11.25,25.2,20.75,3100,24.78,49.66,154.90283719536922]
["Krugerrand",53477,"Sarah Southworth",132,132,"yes","B",48.42,14.33,42.33,13,36.17,29.42,15300,17.77,35.47,268.2349766677014]
["Lakahi",25260,"Jim Young",72,72,"yes","A",48,14.25,47,14.58,35.42,30,9800,26.64,50.21,162.03703703703704]
["Lickety Split",43067,"Donna Maneely",168,168,"yes","C",40.86,13,35.36,11.79,31.71,25,9400,18.73,33.700000000000003,268.57142857142856]
["O'Yeller",30714,"Thomas Moulds",108,108,"yes","A",36,11.75,31.5,10.75,30,27.5,3600,28.56,57.33,77.278093807019403]
["Pursuit",23798,"Norm Dawley",51,57,"yes","A",52,16,55,18,47.67,37.17,18689,23.26,45.15,162.46520482011175]
["Rakali","USA 158","Mark Witte",120,129,"yes","B",31.5,9.5,30,12.5,26.25,22,2900,29.88,72.56,121.58554255661696]
["Rhumb Punch","USA 41","John Edwards",54,null,"yes","A",38.26,10.89,40.5,14.57,30.94,27.56,4558,33.200000000000003,78.209999999999994,97.205013026621927]
["Rum Ration",73052,"Scott Pankiewicz",162,162,"yes","C",42.5,12.83,36.83,12,30.79,25.42,10200,18.5,33.26,277.22060997294335]
["Shermax",2276,"Max Munger",177,177,"yes","C",43,13.16,37.5,12,29.91,25,10200,19.02,37.85,291.42857142857144]
["Spinnster",161,"Betsy Dodge",171,null,"yes","C",30.5,9.5,29.5,12.25,25.92,21.67,4250,22.36,39.880000000000003,186.45076850448498]
["Splash","USA 173","Tom Attick",111,111,"yes","B",40,12,35,12,29.5,25,5500,25.56,49.85,157.14285714285714]
["Status Quo",63076,"Jimmy Yurko",108,108,"yes","A",36,11.75,31.5,10.75,30,27.5,3750,27.8,55.79,80.498014382311879]
["Stingray",63383,"Elliot Peterson",129,129,"yes","B",38,10.95,32.4,12,27.9,23.8,5100,24.12,45.56,168.88508104322156]
["Synergy",83096,"Peter LaRoche",168,168,"no","C",39,12.5,34.25,11.5,29.96,25.25,7950,19.5,37.94,220.46261931499356]
["Tenounce",99,"John Mckinney",null,174,"no","C",41.5,13.87,35,13.75,33.17,26.25,10500,19.46,19.46,259.1512795594428]
["The Doghouse",63199,"Dan Shannon",111,111,"yes","B",40,12,35,12,29.5,25,6000,24.12,47.08,171.42857142857142]
["The Riddler",63243,"Clarke McKinney",108,114,"yes","A",34,11,32.5,11.5,29.67,27.5,3600,28.36,58.78,77.278093807019403]
["Toby",142,"Chris Eggert",141,141,"yes","B",47.5,15,41.75,11.5,36,29,12800,19.03,37.770000000000003,234.29766346655111]
["Valiant",60177,"L. Allen, Navy PAX SC",93,93,"yes *","A",58.71,18.45,50.75,16,44,35.799999999999997,31641,16.63,33.83,307.8598847550997]
["Whiskers",63063,"Jim Whited",96,96,"yes","A",50.9,15.16,44.1,13.1,37,30.32,12938,21.49,42.34,207.21993712386671]
["Wicked Good",93121,"Mark Gyorgy",132,132,"yes","B",35.25,10.199999999999999,37.200000000000003,12,26.83,23.42,3800,29.81,51.7,132.06109868494102]
["Wild Thing",87638,"Jimmy Yurko",183,186,"yes","C",22.6,7.25,24.04,9.33,20.329999999999998,18.420000000000002,1160,31.82,54.07,82.859268190743165]

{"sheet":"Course","index":3,"n_rows":50,"n_cols":20,"rows_kept":50,"cut":false,"hidden":false,"merged":[]}
[null,20,20,null,null,null,20,20,null,null,20,20]
[" ",5,20,null,null,"A",2,2,null,"A",2,2,null,"Page has been customized for Wednesday night MARKS"]
["A",2,2,null,null,"B",3,3,null,"B",3,3]
["B",3,3,null,null,"C",4,4,null,"E",5,5]
["E",5,5,null,null,"E",5,5,null,"K",10,10]
["K",10,10,null,null,"G",6,6,null,"L",11,11]
["L",11,11,null,null,"H",7,7,null,"M",12,12]
["M",12,12,null,null,"I",8,8,null,"S",17,17]
["S",17,17,null,null,"J",9,9,null,"T",14,14]
["T",14,14,null,null,"K",10,10,null,"X",16,16]
["V",16,16,null,null,"L",11,11,null,"Y",18,18]
["X",20,20,null,null,"M",12,12,null,"Z",19,19]
["Y",18,18,null,null,"S",17,17]
["Z",19,19,null,null,"T",14,14]
[null,null,null,null,null,"V",16,16]
[null,null,null,null,null,"X",16,16]
[null,null,null,null,null,"Y",18,18]
[null,null,null,null,null,"Z",19,19]
[null,"Active",null,null,null,null,"All",null,null,null,"Bay"]
[]
[]
[null,"A","B","C","E","G","H","I","J","K","L","M","N","T","U","V","S","Y","Z","X"]
["A",0,0.94,3.41,2.15,3.72,5.41,5.95,6.47,1.87,2.34,2.83,0,0.96,0,0.87,2.38,1.41,2.35,1.35]
["B",0.94,0,2.4700000000000002,1.28,2.82,4.47,5.01,5.53,2.75,3.22,3.71,0,1.58,0,1.82,3.2,2.17,3.11,2.15]
["C",3.41,2.4700000000000002,0,2.57,3.11,2.14,3.79,3.23,null,null,null,null,null,null,null,null,null,null,0]
["E",2.15,1.28,2.57,0,1.57,4.1399999999999997,4,5.09,null,null,null,null,null,null,null,null,null,null,0]
["G",3.72,2.82,3.11,1.57,0,3.85,2.7,4.57,null,null,null,null,null,null,null,null,null,null,0]
["H",5.41,4.47,2.14,4.1399999999999997,3.85,0,2.84,1.1000000000000001,null,null,null,null,null,null,null,null,null,null,0]
["I",5.95,5.01,3.79,4,2.7,2.84,0,2.87,null,null,null,null,null,null,null,null,null,null,0]
["J",6.47,5.53,3.23,5.09,4.57,1.1000000000000001,2.87,0,null,null,null,null,null,null,null,null,null,null,0]
["K",1.87,2.75,null,null,null,null,null,null,0,0.89,1.84,0,1.64,0,1.06,1.42,1.29,2.1,1.1299999999999999]
["L",2.34,3.22,null,null,null,null,null,null,0.89,0,1.01,0,1.72,0,1.73,0.76,1.2,1.86,1.1100000000000001]
["M",2.83,3.71,null,null,null,null,null,null,1.84,1.01,0,0,2.2400000000000002,0,2.4,0.56000000000000005,1.7,2.38,1.45]
["N",0,0,null,null,null,null,null,null,0,0,0,0,0,0,0,0,0,0,0]
["T",0.96,1.56,null,null,null,null,null,null,1.64,1.72,2.2400000000000002,0,0,0,1.23,1.73,0.69,1.62,0.65]
["U",0,0,null,null,null,null,null,null,0,0,0,0,0,0,0,0,0,0,0]
["V",0.87,1.82,null,null,null,null,null,null,1.06,1.73,2.4,0,1.23,0,0,1.89,1.23,2.13,1.0900000000000001]
["S",2.36,3.19,null,null,null,null,null,null,1.42,0.76,0.56000000000000005,0,1.73,0,1.89,0,1.2,1.86,1.1100000000000001]
["Y",1.41,2.17,null,null,null,null,null,null,1.29,1.2,1.7,0,0.69,0,1.23,1.2,0,0.94,0.15]
["Z",2.35,3.11,null,null,null,null,null,null,2.1,1.86,2.38,0,1.62,0,2.13,1.86,0.94,0,1.1499999999999999]
["X",1.35,2.15,0,0,0,0,0,0,1.1499999999999999,1.1100000000000001,1.45,0,0.65,0,1.0900000000000001,1.1100000000000001,0.15,1.1499999999999999,0]
[]
[]
[]
["Middle Distance Series Course Table"]
[null,null,null,null,"NS","Spin"]
["Sharps Island Race",null,null,null,39.9,39.9]
["Little Choptank Race",null,null,null,32.5,32.5]
["Smith Point Race",null,null,null,42,59]
["Hooper Island Point-No-Point Race",null,null,null,29.4,29.4]

{"sheet":"RSinput","index":4,"n_rows":10,"n_cols":8,"rows_kept":10,"cut":false,"hidden":false,"merged":[]}
["Sail","BoatName","PHRF",null,null,null,"Finish","Division"]
[null,null,null,null,null,null,{"$f":"TIME(D2,E2,F2)","v":"00:00:00"},"NonSpin"]
[null,null,null,null,null,null,"00:00:00","NonSpin"]
[null,null,null,null,null,null,"00:00:00","NonSpin"]
[null,null,null,null,null,null,"00:00:00","NonSpin"]
[null,null,null,null,null,null,"00:00:00","NonSpin"]
[null,null,null,null,null,null,"00:00:00","NonSpin"]
[null,null,null,null,null,null,"00:00:00","NonSpin"]
[null,null,null,null,null,null,"00:00:00","NonSpin"]
[null,null,null,null,null,null,"00:00:00","NonSpin"]

{"sheet":"Sheet1","index":5,"n_rows":41,"n_cols":13,"rows_kept":41,"cut":false,"hidden":false,"merged":[[0,0,0,3],[2,2,2,4],[0,4,0,9]]}
["SMSA Scoring Worksheet",null,null,null,"Race Name _________________________________"]
[null,"Date : ","_____________________",null,null,"RC: ","____________________"]
[null,"Course: ","_______________________________________",null,null,null,null,null,null,null,"Finish time"]
["Boat","SailNo","Owner","Spin","NonSpin","Race Fee-  2016","Spinclass","Checked In","Start Class ","(hr)","(min)","(sec)","Notes"]
[{"$f":"Boats!A4","v":"American Flyer"},{"$f":"Boats!B4","v":39519},{"$f":"Boats!C4","v":"Dan Schneider"},{"$f":"Boats!D4","v":36},{"$f":"Boats!E4","v":42},{"$f":"Boats!F4","v":"yes"},{"$f":"Boats!G4","v":"A"}]
[{"$f":"Boats!#REF!","v":{"$error":"#REF!"}},{"$f":"Boats!#REF!","v":{"$error":"#REF!"}},{"$f":"Boats!#REF!","v":{"$error":"#REF!"}},{"$f":"Boats!#REF!","v":{"$error":"#REF!"}},{"$f":"Boats!#REF!","v":{"$error":"#REF!"}},{"$f":"Boats!#REF!","v":{"$error":"#REF!"}},{"$f":"Boats!#REF!","v":{"$error":"#REF!"}}]
[{"$f":"Boats!A6","v":"Bad Cat"},{"$f":"Boats!B6","v":"063"},{"$f":"Boats!C6","v":"Jim Whited"},{"$f":"Boats!D6","v":39},{"$f":"Boats!E6","v":48},{"$f":"Boats!F6","v":"yes"},{"$f":"Boats!G6","v":"A"}]
[{"$f":"Boats!A7","v":"Badger"},{"$f":"Boats!B7","v":144},{"$f":"Boats!C7","v":"Carl Feusaherns"},{"$f":"Boats!D7","v":177},{"$f":"Boats!E7","v":177},{"$f":"Boats!F7","v":"yes"},{"$f":"Boats!G7","v":"C"}]
[{"$f":"Boats!A9","v":"Blue Boat Home"},{"$f":"Boats!B9","v":4856},{"$f":"Boats!C9","v":"Lowell Martin"},{"$f":"Boats!D9","v":231},{"$f":"Boats!E9","v":237},{"$f":"Boats!F9","v":0},{"$f":"Boats!G9","v":"C"}]
[{"$f":"Boats!A10","v":"Blue Goose"},{"$f":"Boats!B10","v":93643},{"$f":"Boats!C10","v":"NAS"},{"$f":"Boats!D10","v":168},{"$f":"Boats!E10","v":168},{"$f":"Boats!F10","v":0},{"$f":"Boats!G10","v":"B"}]
[{"$f":"Boats!A11","v":"Cheetah"},{"$f":"Boats!B11","v":50473},{"$f":"Boats!C11","v":"Marc Briere"},{"$f":"Boats!D11","v":42},{"$f":"Boats!E11","v":51},{"$f":"Boats!F11","v":"yes"},{"$f":"Boats!G11","v":"A"}]
[{"$f":"Boats!A12","v":"Cheetah 1.0"},{"$f":"Boats!B12","v":36051},{"$f":"Boats!C12","v":"Chris Helmkamp"},{"$f":"Boats!D12","v":111},{"$f":"Boats!E12","v":111},{"$f":"Boats!F12","v":0},{"$f":"Boats!G12","v":"B"}]
[{"$f":"Boats!A13","v":"Easy Button"},{"$f":"Boats!B13","v":93084},{"$f":"Boats!C13","v":"David Meiser"},{"$f":"Boats!D13","v":159},{"$f":"Boats!E13","v":159},{"$f":"Boats!F13","v":"yes"},{"$f":"Boats!G13","v":"C"}]
[{"$f":"Boats!A14","v":"Elan"},{"$f":"Boats!B14","v":43162},{"$f":"Boats!C14","v":"Gary Shaw"},{"$f":"Boats!D14","v":153},{"$f":"Boats!E14","v":156},{"$f":"Boats!F14","v":"yes"},{"$f":"Boats!G14","v":"C"}]
[{"$f":"Boats!A15","v":"Flyer"},{"$f":"Boats!B15","v":25126},{"$f":"Boats!C15","v":"Michael Major"},{"$f":"Boats!D15","v":114},{"$f":"Boats!E15","v":114},{"$f":"Boats!F15","v":0},{"$f":"Boats!G15","v":"B"}]
[{"$f":"Boats!A16","v":"Gift Horse"},{"$f":"Boats!B16","v":87012},{"$f":"Boats!C16","v":"Jimmy Yurko"},{"$f":"Boats!D16","v":111},{"$f":"Boats!E16","v":111},{"$f":"Boats!F16","v":0},{"$f":"Boats!G16","v":"B"}]
[{"$f":"Boats!A17","v":"Jray"},{"$f":"Boats!B17","v":"USA47"},{"$f":"Boats!C17","v":"Larry Ray"},{"$f":"Boats!D17","v":114},{"$f":"Boats!E17","v":120},{"$f":"Boats!F17","v":0},{"$f":"Boats!G17","v":"B"}]
[{"$f":"Boats!A19","v":"Krugerrand"},{"$f":"Boats!B19","v":53477},{"$f":"Boats!C19","v":"Sarah Southworth"},{"$f":"Boats!D19","v":132},{"$f":"Boats!E19","v":132},{"$f":"Boats!F19","v":"yes"},{"$f":"Boats!G19","v":"B"}]
[{"$f":"Boats!A20","v":"Lakahi"},{"$f":"Boats!B20","v":25260},{"$f":"Boats!C20","v":"Jim Young"},{"$f":"Boats!D20","v":72},{"$f":"Boats!E20","v":72},{"$f":"Boats!F20","v":"yes"},{"$f":"Boats!G20","v":"A"}]
[{"$f":"Boats!A21","v":"Lickety Split"},{"$f":"Boats!B21","v":43067},{"$f":"Boats!C21","v":"Donna Maneely"},{"$f":"Boats!D21","v":168},{"$f":"Boats!E21","v":168},{"$f":"Boats!F21","v":"yes"},{"$f":"Boats!G21","v":"C"}]
[{"$f":"Boats!A22","v":"Natural Disaster"},{"$f":"Boats!B22","v":63243},{"$f":"Boats!C22","v":"Thomas Moulds"},{"$f":"Boats!D22","v":114},{"$f":"Boats!E22","v":114},{"$f":"Boats!F22","v":"yes"},{"$f":"Boats!G22","v":"B"}]
[{"$f":"Boats!A23","v":"Pursuit"},{"$f":"Boats!B23","v":23798},{"$f":"Boats!C23","v":"Norm Dawley"},{"$f":"Boats!D23","v":45},{"$f":"Boats!E23","v":66},{"$f":"Boats!F23","v":"yes"},{"$f":"Boats!G23","v":"A"}]
[{"$f":"Boats!A24","v":"Rakali"},{"$f":"Boats!B24","v":"USA158"},{"$f":"Boats!C24","v":"Mark Witte"},{"$f":"Boats!D24","v":120},{"$f":"Boats!E24","v":129},{"$f":"Boats!F24","v":"yes"},{"$f":"Boats!G24","v":"B"}]
[{"$f":"Boats!A25","v":"Rhumb Punch"},{"$f":"Boats!B25","v":"USA 41"},{"$f":"Boats!C25","v":"John Edwards"},{"$f":"Boats!D25","v":54},{"$f":"Boats!E25","v":63},{"$f":"Boats!F25","v":"yes"},{"$f":"Boats!G25","v":"A"}]
[{"$f":"Boats!A26","v":"Shamal"},{"$f":"Boats!B26","v":23827},{"$f":"Boats!C26","v":"Andy Batchelor"},{"$f":"Boats!D26","v":174},{"$f":"Boats!E26","v":174},{"$f":"Boats!F26","v":"yes"},{"$f":"Boats!G26","v":"C"}]
[{"$f":"Boats!A27","v":"Shermax"},{"$f":"Boats!B27","v":2276},{"$f":"Boats!C27","v":"Max Munger"},{"$f":"Boats!D27","v":177},{"$f":"Boats!E27","v":177},{"$f":"Boats!F27","v":"yes"},{"$f":"Boats!G27","v":"C"}]
[{"$f":"Boats!A28","v":"Short Bus"},{"$f":"Boats!B28","v":71221},{"$f":"Boats!C28","v":"Hawk Caldwell"},{"$f":"Boats!D28","v":42},{"$f":"Boats!E28","v":54},{"$f":"Boats!F28","v":0},{"$f":"Boats!G28","v":"A"}]
[{"$f":"Boats!A29","v":"Sophie J"},{"$f":"Boats!B29","v":"USA788"},{"$f":"Boats!C29","v":"Clarke Mckinney"},{"$f":"Boats!D29","v":120},{"$f":"Boats!E29","v":129},{"$f":"Boats!F29","v":"yes"},{"$f":"Boats!G29","v":"B"}]
[{"$f":"Boats!A30","v":"Spinnster"},{"$f":"Boats!B30","v":161},{"$f":"Boats!C30","v":"Betsy Dodge"},{"$f":"Boats!D30","v":171},{"$f":"Boats!E30","v":171},{"$f":"Boats!F30","v":"yes"},{"$f":"Boats!G30","v":"C"}]
[{"$f":"Boats!A31","v":"Splash"},{"$f":"Boats!B31","v":"USA 173"},{"$f":"Boats!C31","v":"Tom Attick"},{"$f":"Boats!D31","v":111},{"$f":"Boats!E31","v":111},{"$f":"Boats!F31","v":"yes"},{"$f":"Boats!G31","v":"B"}]
[{"$f":"Boats!A32","v":"Stingray"},{"$f":"Boats!B32","v":63383},{"$f":"Boats!C32","v":"Elliot Peterson"},{"$f":"Boats!D32","v":129},{"$f":"Boats!E32","v":129},{"$f":"Boats!F32","v":"yes"},{"$f":"Boats!G32","v":"B"}]
[{"$f":"Boats!A33","v":"Stormy Petrel"},{"$f":"Boats!B33","v":93644},{"$f":"Boats!C33","v":"NAS"},{"$f":"Boats!D33","v":168},{"$f":"Boats!E33","v":168},{"$f":"Boats!F33","v":0},{"$f":"Boats!G33","v":0}]
[{"$f":"Boats!A34","v":"Supra"},{"$f":"Boats!B34","v":26007},{"$f":"Boats!C34","v":"Peter D'Arista"},{"$f":"Boats!D34","v":81},{"$f":"Boats!E34","v":90},{"$f":"Boats!F34","v":"Yes"},{"$f":"Boats!G34","v":"A"}]
[{"$f":"Boats!A35","v":"Tennounce"},{"$f":"Boats!B35","v":99},{"$f":"Boats!C35","v":"John Mckinney"},{"$f":"Boats!D35","v":174},{"$f":"Boats!E35","v":174},{"$f":"Boats!F35","v":"no"},{"$f":"Boats!G35","v":"C"}]
[{"$f":"Boats!A36","v":"The Doghouse"},{"$f":"Boats!B36","v":63199},{"$f":"Boats!C36","v":"Dan Shannon"},{"$f":"Boats!D36","v":111},{"$f":"Boats!E36","v":111},{"$f":"Boats!F36","v":"yes"},{"$f":"Boats!G36","v":"B"}]
[{"$f":"Boats!A37","v":"Valiant"},{"$f":"Boats!B37","v":60177},{"$f":"Boats!C37","v":"NAS"},{"$f":"Boats!D37","v":93},{"$f":"Boats!E37","v":93},{"$f":"Boats!F37","v":"yes *"},{"$f":"Boats!G37","v":"A"}]
[{"$f":"Boats!A39","v":"Wicked Good"},{"$f":"Boats!B39","v":93121},{"$f":"Boats!C39","v":"Mark Gyorgy"},{"$f":"Boats!D39","v":132},{"$f":"Boats!E39","v":132},{"$f":"Boats!F39","v":"yes"},{"$f":"Boats!G39","v":"B"}]
[{"$f":"Boats!A40","v":"Wild Thing"},{"$f":"Boats!B40","v":87638},{"$f":"Boats!C40","v":"Jimmy Yurkop"},{"$f":"Boats!D40","v":186},{"$f":"Boats!E40","v":186},{"$f":"Boats!F40","v":0},{"$f":"Boats!G40","v":0}]
[]
[]
[null,null,"Boats without PHRF ratings will be scored with a 0 rating.  Scores will be updated when the PHRF certificate is submitted."]